Workbook

Sheet ご案内

Sheet 1
B5: 【匿名】諸手当の支給に関する実態調査 | Z5: 2．主要手当の支給実態
B9: ご回答は 2026年10月23日（金）までにお願いいたします。 | R9: （本調査に関するお問い合わせ先） | Z9: ［1］役職手当（役付手当）
R11: 〒141-0031 東京都品川区西五反田3-6-21 | Z11: ※役職位に就いている者に支給する手当を指します。基本給の一部である「役割給」「職務給」などは除いてください。
B12: ご記入いただいたExcelファイルを、下記メールアドレスまで そのままお送りください。
R13: 住友不動産西五反田ビル3階 | Z13: (1) 手当の有無
R15: （一財）労務行政研究所 編集部 | AA15: ① | AB15: あり | AC15: 名称 | AI15: ② | AJ15: なし
B16: r-survey@rosei.or.jp
R18: TEL 03-3491-1260（直通） | Z18: (2) 手当の内容
R20: E-mail r-survey＠rosei.or.jp | AA20: ・該当する決め方を選択し、金額で決定している場合は「一律」と「最高額・最低額」のいずれかに記入してください。
AA22: 区分 | AD22: 記入例 | AJ22: 部長（クラス） | AP22: 次長（クラス） ※副部長等を含む
B23: 貴社名 | L23: 所在地 | P23: 〒
AA26: 決め方 | AD26: □ 一律定額 | AJ26: 一律定額 | AP26: 一律定額
B27: お名前 | G27: 部署名 | R27: 全従業員数 (パート･臨時除く) | X27: 人
AD28: □ 同じ役職位でも金額に幅がある | AJ28: 同じ役職位でも金額に幅がある | AP28: 同じ役職位でも金額に幅がある
AD30: □ 基本給等の一定率で設定 | AJ30: 基本給等の一定率で設定 | AP30: 基本給等の一定率で設定
B31: E-mail アドレス | P31: 電話番号
AA32: 一律 | AI32: 円 | AO32: 円 | AU32: 円
AA35: 幅あり | AB35: 最高額 | AD35: 75000 | AI35: 円 | AO35: 円 | AU35: 円
B36: 以下の設問にご回答ください（該当する□に✓印を記入してください）。
AB38: 最低額 | AD38: 50000 | AI38: 円 | AO38: 円 | AU38: 円
B39: 1．諸手当の支給状況
AA41: 区分 | AD41: 課長（クラス） | AJ41: 課長代理（クラス） ※課長補佐等を含む | AP41: 係長（クラス）
B42: (1) 正社員に対する各手当の支給状況
B44: ※ 管理職、一般社員のそれぞれについて手当の有無を選択してください。
AA45: 決め方 | AD45: 一律定額 | AJ45: 一律定額 | AP45: 一律定額
G47: 管理職 | K47: 一般社員 | S47: 管理職 | W47: 一般社員 | AD47: 同じ役職位でも金額に幅がある | AJ47: 同じ役職位でも金額に幅がある | AP47: 同じ役職位でも金額に幅がある
AD49: 基本給等の一定率で設定 | AJ49: 基本給等の一定率で設定 | AP49: 基本給等の一定率で設定
G50: あり | H50: なし | K50: あり | L50: なし | S50: あり | T50: なし | W50: あり | X50: なし
AA51: 一律 | AI51: 円 | AO51: 円 | AU51: 円
C53: ① 役職手当（役付手当） | O53: ⑩ 資格手当（資格保有者に対する 手当）
AA54: 幅あり | AB54: 最高額 | AI54: 円 | AO54: 円 | AU54: 円
C57: ② 営業手当（外勤手当） | O57: ⑪ テレワーク手当（在宅勤務手当、 毎月支給するもの） | AB57: 最低額 | AI57: 円 | AO57: 円 | AU57: 円
C61: ③ 出向手当 | O61: ⑫ 通勤手当 | Z61: ［2］営業手当（外勤手当）
Z63: (1) 手当の有無
C64: ④ 年末年始手当 | O64: ⑬ 家族手当・子ども手当
AA65: ① | AB65: あり | AC65: 名称 | AI65: ② | AJ65: なし
C67: ⑤ 宿日直手当 | O67: ⑭ 住宅手当
Z68: (2) 管理職への支給
C70: ⑥ 交替勤務手当・時差勤務手当 | O70: ⑮ 地域手当・勤務地手当 | AA70: ① | AB70: 支給する（一部支給を含む） | AG70: ② | AH70: 支給しない | AK70: ③ | AL70: その他 | AN70: 内容
C73: ⑦ 待機手当 | O73: ⑯ 寒冷地手当・燃料手当 | Z73: (3) 支給方法
...

Sheet 2
AO2: ='1'!AR2 -> 0
B4: ［3］家族手当・子ども手当 | X4: (8) 家族形態別モデル支給額
B6: (1) 手当の有無 | Y6: ・子どもの年齢や就学状況で異なる場合は、下記の条件に合う金額を記入してください。
C8: ① | D8: あり | E8: 名称 | K8: ② | L8: なし | Y8: ①子ども1人＝小学生、②子ども2人＝中学生と小学生、③子ども3人＝高校生と中学生と小学生
Y10: ・その他の条件で金額に差がある場合は「最高額」で記入してください。
B11: (2) 管理職への支給
Y12: 配偶者に支給する場合の「支給総額」
C13: ① | D13: 支給する（一部支給を含む） | I13: ② | J13: 支給しない | M13: ③ | N13: その他 | P13: 内容
Y14: ・扶養人数別に金額を設定している場合は、配偶者を「1人目」、子どもを「2人目以降」としてください。
B16: (3)人数・金額による制限の有無 | Y16: 配偶者のみ | AD16: 配偶者＋子ども1人 | AI16: 配偶者＋子ども2人 | AN16: 配偶者＋子ども3人
C18: ① | D18: 制限あり | F18: ② | G18: 制限なし | AC18: 円 | AH18: 円 | AM18: 円 | AR18: 円
D20: 制限の内容（複数回答可）
D22: ① | E22: 上限人数 | G22: 内容
Y23: 子どものみに支給する場合の「支給総額」
D25: ② | E25: 上限金額 | G25: 内容 | Y25: ※配偶者に支給する場合には、こちらのご記入は不要です。
Y27: 子ども1人 | AD27: 子ども2人 | AI27: 子ども3人
B28: (4) 配偶者に対する手当の支給
AC29: 円 | AH29: 円 | AM29: 円
C30: ① | D30: あり | F30: ② | G30: なし
D33: 配偶者の収入による支給制限の有無
X34: ［4］住宅手当
D35: ① | E35: 制限あり | G35: ② | H35: 制限なし
X36: (1) 手当の有無
E38: 制限の内容 | Y38: ① | Z38: あり | AA38: 名称 | AG38: ② | AH38: なし
E40: ① | F40: 所得税法上の控除対象配偶者に支給
X41: (2) 支給対象と支給金額
E42: ② | F42: 健康保険の被扶養対象者に支給
Y43: 支給対象 | AB43: ① | AC43: 全員に支給 | AF43: ② | AG43: 一部の社員に支給
E44: ③ | F44: 上記①かつ②に支給
E46: ④ | F46: その他 | H46: 内容 | Y46: 支給金額 | AB46: ① | AC46: 一律 | AF46: ② | AG46: 条件により異なる
E49: 配偶者特別控除の対象配偶者について
X50: (3)（(2)で②に✓した方のみ）支給対象と金額の決定要素（複数回答可）
F51: ① | G51: 含む | I51: ② | J51: 含まない
Y52: ※ それぞれの決定要素について、①～⑥のうち該当するものをすべて選択してください。
D54: 配偶者に対する手当の今後3年間の予定 | AI54: 支給対象 の決定要素 | AM54: 支給金額 の決定要素
D56: ① | E56: 廃止・縮小予定
D58: ② | E58: 現状維持 | Y58: ① 世帯構成（世帯主・非世帯主、扶養家族の有無等）
D60: ③ | E60: その他 | G60: 内容
Y61: ② 住居形態（持ち家、賃貸、実家・親族宅への同居等）
B63: (5) 子どもの年齢・就学状況による支給制限（複数回答可）
...

Sheet 3
AO2: ='1'!AR2 -> 0
B5: ［5］地域手当・勤務地手当 | X5: 3．非正規社員に対する手当の支給状況
B7: ※寒冷地手当・燃料手当は除いてください。
X8: (1) 非正規社員の雇用状況（複数回答可）
B9: (1) 複数地域の拠点および手当の有無
Y10: ① | Z10: パートタイマー | AD10: ② | AE10: 契約社員 | AH10: ③ | AI10: 定年後再雇用者
C11: ① | D11: 複数地域の拠点あり・手当あり | J11: ② | K11: 複数地域の拠点あり・手当なし | Q11: ③ | R11: 複数地域の拠点なし
X13: ※(2)～(4)は貴社で雇用している区分について回答してください。
B14: (2) 管理職への支給
X15: ※正社員と非正規社員のいずれにも支給しない手当についてのご回答は不要です。
C16: ① | D16: 支給する（一部支給を含む） | I16: ② | J16: 支給しない | M16: ③ | N16: その他 | P16: 内容
X18: (2) パートタイマーに対する手当の支給状況
B19: (3) 設定方法
AE20: 正社員と同じ 基準で支給 | AJ20: 正社員とは異なる 基準で支給 | AO20: 非正規社員には 支給しない
C21: ① | D21: 金額 | F21: ② | G21: 基本給等の一定率 | K21: ③ | L21: 金額と率の併用 | O21: ④ | P21: その他 | R21: 内容
B24: (4) 支給額・支給率の決定方法 | Y24: ① 役職手当
C26: ① | D26: 同一地域でも幅がある | I26: ② | J26: 地域ごとの定額・定率 | O26: ③ | P26: その他 | R26: 内容 | Y26: ② 通勤手当
Y28: ③ 家族手当・子ども手当
B29: (5) 支給額・支給率の決定要素（複数回答可）
Y30: ④ 住宅手当
C31: ① | D31: 等級・役職位 | G31: ② | H31: 職種・職務内容 | L31: ③ | M31: 世帯主・非世帯主 | Q31: ④ | R31: 扶養家族の有無・人数
Y32: ⑤ 地域手当・勤務地手当
C33: ⑤ | D33: 住居形態 | G33: ⑥ | H33: その他 | J33: 内容
Y34: ⑥ 営業手当
B36: (6) 具体的な支給内容（基準・金額・支給条件等） | Y36: ⑦ 資格手当（資格保有者に対する手当）
Y38: ⑧ 年末年始手当
X41: (3) 契約社員に対する手当の支給状況
AE43: 正社員と同じ 基準で支給 | AJ43: 正社員とは異なる 基準で支給 | AO43: 非正規社員には 支給しない
B45: (7) 地域別モデル支給額
C47: ・同じ地域でも条件によって金額に差がある場合は「最高額」で記入してください。 | Y47: ① 役職手当
C49: 地域 | E49: 金額 | I49: 地域 | K49: 金額 | P49: 地域 | R49: 金額 | Y49: ② 通勤手当
C51: 東京 | H51: 円 | I51: 大阪 | O51: 円 | P51: 名古屋 | V51: 円 | Y51: ③ 家族手当・子ども手当
Y53: ④ 住宅手当
C54: 札幌 | H54: 円 | I54: 仙台 | O54: 円 | P54: 広島 | V54: 円
Y55: ⑤ 地域手当・勤務地手当
C57: 福岡 | H57: 円 | I57: 最も金額が低いその他の地域 | N57: 地域名 | V57: 円 | Y57: ⑥ 営業手当
Y59: ⑦ 資格手当（資格保有者に対する手当）
B61: ［6］出向手当 | Y61: ⑧ 年末年始手当
B63: (1) 出向制度および手当の有無
X64: (4) 定年後再雇用者に対する手当の支給状況
...

Sheet 集計用
A1: 基本情報 | C1: 諸手当の支給状況 | BW1: 近年の変更 | BY1: 役職手当 | DF1: 営業手当 | EB1: 家族手当・子ども手当 | GB1: 住宅手当 | HB1: 地域・勤務地手当 | II1: 出向手当 | JD1: 非正規社員
A2: 会社番号 | B2: 会社名 | C2: ①役職手当 | G2: ②営業手当 | K2: ③出向手当 | O2: ④年末年始手当 | S2: ⑤宿日直手当 | W2: ⑥交替勤務手当・時差勤務手当 | AA2: ⑦待機手当 | AE2: ⑧特殊勤務手当 | AI2: ⑨特殊作業手当 | AM2: ⑩資格手当 | AQ2: ⑪テレワーク手当 | AU2: ⑫通勤手当 | AY2: ⑬家族手当・子ども手当 | BC2: ⑭住宅手当 | BG2: ⑮地域手当・勤務地手当 | BK2: ⑯寒冷地手当・燃料手当 | BO2: ⑰食事手当 | BS2: ⑱単身赴任手当 | BW2: 見直し内容 | BX2: 今後の方針 | BY2: 手当の有無 | CB2: 部長クラス | CH2: 次長クラス | CN2: 課長クラス | CT2: 課長代理クラス | CZ2: 係長クラス | DF2: 手当の有無 | DI2: 管理職への支給 | DM2: 支給方法 | DR2: 時間外割増 | DU2: 支給内容 | DV2: 支給金額 | EB2: 手当の有無 | EE2: 管理職への支給 | EI2: 人数・金額の制限 | EO2: 配偶者手当の支給 | EQ2: 支給制限の有無 | ES2: 制限の内容 | EX2: 配偶者特別控除 | EZ2: 配偶者手当の方針 | FD2: 子どもの年齢等の支給制限 | FJ2: 就学状況 | FT2: 支給内容 | FU2: モデル支給額 | GB2: 手当の有無 | GE2: 支給の対象と金額 | GI2: 支給対象の決定要素 | GO2: 支給金額の決定要素 | GV2: 支給内容 | GW2: モデル支給額 | HB2: 複数地域の拠点と手当の有無 | HE2: 管理職への支給 | HI2: 設定方法 | HN2: 額・率の決定方法 | HR2: 額・率の決定要素 | HY2: 支給内容 | HZ2: 地域別モデル支給額 | II2: 制度と手当の有無 | IL2: 管理職への支給 | IP2: 支給額の決定方法 | IU2: 手当の性格 | JA2: 支給内容 | JB2: 支給金額 | JD2: 雇用状況 | JG2: パートタイマー | KE2: 契約社員 | LC2: 定年後再雇用者 | MA2: 見直し
C3: 管理職 あり | D3: 管理職 なし | E3: 一般社員 あり | F3: 一般社員 なし | G3: 管理職 あり | H3: 管理職 なし | I3: 一般社員 あり | J3: 一般社員 なし | K3: 管理職 あり | L3: 管理職 なし | M3: 一般社員 あり | N3: 一般社員 なし | O3: 管理職 あり | P3: 管理職 なし | Q3: 一般社員 あり | R3: 一般社員 なし | S3: 管理職 あり | T3: 管理職 なし | U3: 一般社員 あり | V3: 一般社員 なし | W3: 管理職 あり | X3: 管理職 なし | Y3: 一般社員 あり | Z3: 一般社員 なし | AA3: 管理職 あり | AB3: 管理職 なし | AC3: 一般社員 あり | AD3: 一般社員 なし | AE3: 管理職 あり | AF3: 管理職 なし | AG3: 一般社員 あり | AH3: 一般社員 なし | AI3: 管理職 あり | AJ3: 管理職 なし | AK3: 一般社員 あり | AL3: 一般社員 なし | AM3: 管理職 あり | AN3: 管理職 なし | AO3: 一般社員 あり | AP3: 一般社員 なし | AQ3: 管理職 あり | AR3: 管理職 なし | AS3: 一般社員 あり | AT3: 一般社員 なし | AU3: 管理職 あり | AV3: 管理職 なし | AW3: 一般社員 あり | AX3: 一般社員 なし | AY3: 管理職 あり | AZ3: 管理職 なし | BA3: 一般社員 あり | BB3: 一般社員 なし | BC3: 管理職 あり | BD3: 管理職 なし | BE3: 一般社員 あり | BF3: 一般社員 なし | BG3: 管理職 あり | BH3: 管理職 なし | BI3: 一般社員 あり | BJ3: 一般社員 なし | BK3: 管理職 あり | BL3: 管理職 なし | BM3: 一般社員 あり | BN3: 一般社員 なし | BO3: 管理職 あり | BP3: 管理職 なし | BQ3: 一般社員 あり | BR3: 一般社員 なし | BS3: 管理職 あり | BT3: 管理職 なし | BU3: 一般社員 あり | BV3: 一般社員 なし | BY3: あり | BZ3: なし | CA3: 名称 | CB3: 一律定額 | CC3: 幅あり | CD3: 一定率 | CE3: 一律 | CF3: 最高 | CG3: 最低 | CH3: 一律定額 | CI3: 幅あり | CJ3: 一定率 | CK3: 一律 | CL3: 最高 | CM3: 最低 | CN3: 一律定額 | CO3: 幅あり | CP3: 一定率 | CQ3: 一律 | CR3: 最高 | CS3: 最低 | CT3: 一律定額 | CU3: 幅あり | CV3: 一定率 | CW3: 一律 | CX3: 最高 | CY3: 最低 | CZ3: 一律定額 | DA3: 幅あり | DB3: 一定率 | DC3: 一律 | DD3: 最高 | DE3: 最低 | DF3: あり | DG3: なし | DH3: 名称 | DI3: 支給する | DJ3: 支給しない | DK3: その他 | DL3: ←内容 | DM3: 月定額 | DN3: 月定率 | DO3: 日当 | DP3: その他 | DQ3: ←内容 | DR3: 含む | DS3: 含まない | DT3: 時間数 | DV3: 管理職 一律 | DW3: 管理職 最高 | DX3: 管理職 最低 | DY3: 一般 一律 | DZ3: 一般 最高 | EA3: 一般 最低 | EB3: あり | EC3: なし | ED3: 名称 | EE3: 支給する | EF3: 支給しない | EG3: その他 | EH3: ←内容 | EI3: 制限あり | EJ3: 制限なし | EK3: 上限人数 | EL3: ←内容 | EM3: 上限金額 | EN3: ←内容 | EO3: あり | EP3: なし | EQ3: 制限あり | ER3: 制限なし | ES3: 所得税法 | ET3: 健康保険 | EU3: 両方 | EV3: その他 | EW3: ←内容 | EX3: 含む | EY3: 含まない | EZ3: 廃止・縮小 | FA3: 現状維持 | FB3: その他 | FC3: ←内容 | FD3: 年齢の制限 | FE3: 就学状況の制限 | FF3: 制限なし | FG3: ←年齢 | FH3: どちらか一方 | FI3: 両方 | FJ3: 小学校未満 | FK3: 小学校 | FL3: 中学校 | FM3: 高等学校 | FN3: 専門学校 | FO3: 短大 | FP3: 大学 | FQ3: 大学院 | FR3: その他 | FS3: ←内容 | FU3: 配偶者のみ | FV3: 配＋子1人 | FW3: 配＋子2人 | FX3: 配＋子3人 | FY3: 子ども1人 | FZ3: 子ども2人 | GA3: 子ども3人 | GB3: あり | GC3: なし | GD3: 名称 | GE3: 全員に支給 | GF3: 一部に支給 | GG3: 一律 | GH3: 異なる | GI3: 世帯構成 | GJ3: 住居形態 | GK3: 管理職・一般社員 | GL3: 役職・資格・職掌 | GM3: 地域 | GN3: その他 | GO3: 世帯構成 | GP3: 住居形態 | GQ3: 管理職・一般社員 | GR3: 役職・資格・職掌 | GS3: 地域 | GT3: その他 | GU3: ←内容 | GW3: 持ち家 世帯主 | GX3: 持ち家 無扶養 | GY3: 賃貸 世帯主 | GZ3: 賃貸 無扶養 | HA3: 実家、親族宅 | HB3: 拠点あり・手当あり | HC3: 拠点あり・手当なし | HD3: 拠点なし | HE3: 支給する | HF3: 支給しない | HG3: その他 | HH3: ←内容 | HI3: 金額 | HJ3: 一定率 | HK3: 併用 | HL3: その他 | HM3: ←内容 | HN3: 幅あり | HO3: 定額・定率 | HP3: その他 | HQ3: ←内容 | HR3: 等級・役職位 | HS3: 職種・職務内容 | HT3: 世帯主・非世帯主 | HU3: 扶養家族の有無・人数 | HV3: 住居形態 | HW3: その他 | HX3: ←内容 | HZ3: 東京 | IA3: 大阪 | IB3: 名古屋 | IC3: 札幌 | ID3: 仙台 | IE3: 広島 | IF3: 福岡 | IG3: その他 | IH3: ←地域名 | II3: 制度あり・手当あり | IJ3: 制度あり・手当なし | IK3: 制度なし | IL3: 支給する | IM3: 支給しない | IN3: その他 | IO3: ←内容 | IP3: 一律 | IQ3: 等級・役職位 | IR3: 労働条件の変更内容 | IS3: その他 | IT3: ←内容 | IU3: 労働時間の差 | IV3: 休日日数の差 | IW3: 勤務内容・業務負荷 | IX3: 福利厚生の差 | IY3: その他 | IZ3: ←内容 | JB3: 管理職 | JC3: 一般社員 | JD3: パート | JE3: 契約社員 | JF3: 再雇用者 | JG3: 役職 同じ | JH3: 役職 異なる | JI3: 役職 なし | JJ3: 通勤 同じ | JK3: 通勤 異なる | JL3: 通勤 なし | JM3: 家族 同じ | JN3: 家族 異なる | JO3: 家族 なし | JP3: 住宅 同じ | JQ3: 住宅 異なる | JR3: 住宅 なし | JS3: 地域 同じ | JT3: 地域 異なる | JU3: 地域 なし | JV3: 営業 同じ | JW3: 営業 異なる | JX3: 営業 なし | JY3: 資格 同じ | JZ3: 資格 異なる | KA3: 資格 なし | KB3: 年末年始 同じ | KC3: 年末年始 異なる | KD3: 年末年始 なし | KE3: 役職 同じ | KF3: 役職 異なる | KG3: 役職 なし | KH3: 通勤 同じ | KI3: 通勤 異なる | KJ3: 通勤 なし | KK3: 家族 同じ | KL3: 家族 異なる | KM3: 家族 なし | KN3: 住宅 同じ | KO3: 住宅 異なる | KP3: 住宅 なし | KQ3: 地域 同じ | KR3: 地域 異なる | KS3: 地域 なし | KT3: 営業 同じ | KU3: 営業 異なる | KV3: 営業 なし | KW3: 資格 同じ | KX3: 資格 異なる | KY3: 資格 なし | KZ3: 年末年始 同じ | LA3: 年末年始 異なる | LB3: 年末年始 なし | LC3: 役職 同じ | LD3: 役職 異なる | LE3: 役職 なし | LF3: 通勤 同じ | LG3: 通勤 異なる | LH3: 通勤 なし | LI3: 家族 同じ | LJ3: 家族 異なる | LK3: 家族 なし | LL3: 住宅 同じ | LM3: 住宅 異なる | LN3: 住宅 なし | LO3: 地域 同じ | LP3: 地域 異なる | LQ3: 地域 なし | LR3: 営業 同じ | LS3: 営業 異なる | LT3: 営業 なし | LU3: 資格 同じ | LV3: 資格 異なる | LW3: 資格 なし | LX3: 年末年始 同じ | LY3: 年末年始 異なる | LZ3: 年末年始 なし | MA3: 見直した | MB3: 見直していない | MC3: 内容
A4: =IF('1'!AR2="","",'1'!AR2) | B4: =IF('1'!D23="","",'1'!D23) | C4: FALSE | D4: FALSE | E4: FALSE | F4: FALSE | G4: FALSE | H4: FALSE | I4: FALSE | J4: FALSE | K4: FALSE | L4: FALSE | M4: FALSE | N4: FALSE | O4: FALSE | P4: FALSE | Q4: FALSE | R4: FALSE | S4: FALSE | T4: FALSE | U4: FALSE | V4: FALSE | W4: FALSE | X4: FALSE | Y4: FALSE | Z4: FALSE | AA4: FALSE | AB4: FALSE | AC4: FALSE | AD4: FALSE | AE4: FALSE | AF4: FALSE | AG4: FALSE | AH4: FALSE | AI4: FALSE | AJ4: FALSE | AK4: FALSE | AL4: FALSE | AM4: FALSE | AN4: FALSE | AO4: FALSE | AP4: FALSE | AQ4: FALSE | AR4: FALSE | AS4: FALSE | AT4: FALSE | AU4: FALSE | AV4: FALSE | AW4: FALSE | AX4: FALSE | AY4: FALSE | AZ4: FALSE | BA4: FALSE | BB4: FALSE | BC4: FALSE | BD4: FALSE | BE4: FALSE | BF4: FALSE | BG4: FALSE | BH4: FALSE | BI4: FALSE | BJ4: FALSE | BK4: FALSE | BL4: FALSE | BM4: FALSE | BN4: FALSE | BO4: FALSE | BP4: FALSE | BQ4: FALSE | BR4: FALSE | BS4: FALSE | BT4: FALSE | BU4: FALSE | BV4: FALSE | BW4: =IF('1'!$C$89="","",'1'!$C$89) | BX4: =IF('1'!$C$99="","",'1'!$C$99) | BY4: FALSE | BZ4: FALSE | CA4: =IF('1'!AD15="","",'1'!AD15) | CB4: FALSE | CC4: FALSE | CD4: FALSE | CE4: =IF('1'!AJ32="","",'1'!AJ32) | CF4: =IF('1'!AJ35="","",'1'!AJ35) | CG4: =IF('1'!AJ38="","",'1'!AJ38) | CH4: FALSE | CI4: FALSE | CJ4: FALSE | CK4: =IF('1'!AP32="","",'1'!AP32) | CL4: =IF('1'!AP35="","",'1'!AP35) | CM4: =IF('1'!AP38="","",'1'!AP38) | CN4: FALSE | CO4: FALSE | CP4: FALSE | CQ4: =IF('1'!AD51="","",'1'!AD51) | CR4: =IF('1'!AD54="","",'1'!AD54) | CS4: =IF('1'!AD57="","",'1'!AD57) | CT4: FALSE | CU4: FALSE | CV4: FALSE | CW4: =IF('1'!AJ51="","",'1'!AJ51) | CX4: =IF('1'!AJ54="","",'1'!AJ54) | CY4: =IF('1'!AJ57="","",'1'!AJ57) | CZ4: FALSE | DA4: FALSE | DB4: FALSE | DC4: =IF('1'!AP51="","",'1'!AP51) | DD4: =IF('1'!AP54="","",'1'!AP54) | DE4: =IF('1'!AP57="","",'1'!AP57) | DF4: FALSE | DG4: FALSE | DH4: =IF('1'!$AD$65="","",'1'!$AD$65) | DI4: FALSE | DJ4: FALSE | DK4: FALSE | DL4: =IF('1'!AO70="","",'1'!AO70) | DM4: FALSE | DN4: FALSE | DO4: FALSE | DP4: FALSE | DQ4: =IF('1'!$AP$75="","",'1'!$AP$75) | DR4: FALSE | DS4: FALSE | DT4: =IF('1'!AK80="","",'1'!AK80) | DU4: =IF('1'!AA87="","",'1'!AA87) | DV4: =IF('1'!AE98="","",'1'!AE98) | DW4: =IF('1'!AI98="","",'1'!AI98) | DX4: =IF('1'!AM98="","",'1'!AM98) | DY4: =IF('1'!AE101="","",'1'!AE101) | DZ4: =IF('1'!AI101="","",'1'!AI101) | EA4: =IF('1'!AM101="","",'1'!AM101) | EB4: FALSE | EC4: FALSE | ED4: =IF('2'!F8="","",'2'!F8) | EE4: FALSE | EF4: FALSE | EG4: FALSE | EH4: =IF('2'!$Q$13="","",'2'!$Q$13) | EI4: FALSE | EJ4: FALSE | EK4: FALSE | EL4: =IF('2'!H22="","",'2'!H22) | EM4: FALSE | EN4: =IF('2'!H25="","",'2'!H25) | EO4: FALSE | EP4: FALSE | EQ4: FALSE | ER4: FALSE | ES4: FALSE | ET4: FALSE | EU4: FALSE | EV4: FALSE | EW4: =IF('2'!I46="","",'2'!I46) | EX4: FALSE | EY4: FALSE | EZ4: FALSE | FA4: FALSE | FB4: FALSE | FC4: =IF('2'!H60="","",'2'!H60) | FD4: FALSE | FE4: FALSE | FF4: FALSE | FG4: =IF('2'!I69="","",'2'!I69) | FH4: FALSE | FI4: FALSE | FJ4: FALSE | FK4: FALSE | FL4: FALSE | FM4: FALSE | FN4: FALSE | FO4: FALSE | FP4: FALSE | FQ4: FALSE | FR4: FALSE | FS4: =IF('2'!P87="","",'2'!P87) | FT4: =IF('2'!C92="","",'2'!C92) | FU4: =IF('2'!Y18="","",'2'!Y18) | FV4: =IF('2'!AD18="","",'2'!AD18) | FW4: =IF('2'!AI18="","",'2'!AI18) | FX4: =IF('2'!AN18="","",'2'!AN18) | FY4: =IF('2'!Y29="","",'2'!Y29) | FZ4: =IF('2'!AD29="","",'2'!AD29) | GA4: =IF('2'!AI29="","",'2'!AI29) | GB4: FALSE | GC4: FALSE | GD4: =IF('2'!AB38="","",'2'!AB38) | GE4: FALSE | GF4: FALSE | GG4: FALSE | GH4: FALSE | GI4: FALSE | GJ4: FALSE | GK4: FALSE | GL4: FALSE | GM4: FALSE | GN4: FALSE | GO4: FALSE | GP4: FALSE | GQ4: FALSE | GR4: FALSE | GS4: FALSE | GT4: FALSE | GU4: =IF('2'!AB73="","",'2'!AB73) | GV4: =IF('2'!Y79="","",'2'!Y79) | GW4: =IF('2'!AC96="","",'2'!AC96) | GX4: =IF('2'!AH96="","",'2'!AH96) | GY4: =IF('2'!AC100="","",'2'!AC100) | GZ4: =IF('2'!AH100="","",'2'!AH100) | HA4: =IF('2'!AN96="","",'2'!AN96) | HB4: FALSE | HC4: FALSE | HD4: FALSE | HE4: FALSE | HF4: FALSE | HG4: FALSE | HH4: =IF('3'!Q16="","",'3'!Q16) | HI4: FALSE | HJ4: FALSE | HK4: FALSE | HL4: FALSE | HM4: =IF('3'!S21="","",'3'!S21) | HN4: FALSE | HO4: FALSE | HP4: FALSE | HQ4: =IF('3'!S26="","",'3'!S26) | HR4: FALSE | HS4: FALSE | HT4: FALSE | HU4: FALSE | HV4: FALSE | HW4: FALSE | HX4: =IF('3'!K33="","",'3'!K33) | HY4: =IF('3'!C38="","",'3'!C38) | HZ4: =IF('3'!E51="","",'3'!E51) | IA4: =IF('3'!K51="","",'3'!K51) | IB4: =IF('3'!R51="","",'3'!R51) | IC4: =IF('3'!E54="","",'3'!E54) | ID4: =IF('3'!K54="","",'3'!K54) | IE4: =IF('3'!R54="","",'3'!R54) | IF4: =IF('3'!E57="","",'3'!E57) | IG4: =IF('3'!R57="","",'3'!R57) | IH4: =IF('3'!O57="","",'3'!O57) | II4: FALSE | IJ4: FALSE | IK4: FALSE | IL4: FALSE | IM4: FALSE | IN4: FALSE | IO4: =IF('3'!Q70="","",'3'!Q70) | IP4: FALSE | IQ4: FALSE | IR4: FALSE | IS4: FALSE | IT4: =IF('3'!G77="","",'3'!G77) | IU4: FALSE | IV4: FALSE | IW4: FALSE | IX4: FALSE | IY4: FALSE | IZ4: =IF('3'!N84="","",'3'!N84) | JA4: =IF('3'!C89="","",'3'!C89) | JB4: =IF('3'!C101="","",'3'!C101) | JC4: =IF('3'!G101="","",'3'!G101) | JD4: FALSE | JE4: FALSE | JF4: FALSE | JG4: FALSE | JH4: FALSE | JI4: FALSE | JJ4: FALSE | JK4: FALSE | JL4: FALSE | JM4: FALSE | JN4: FALSE | JO4: FALSE | JP4: FALSE | JQ4: FALSE | JR4: FALSE | JS4: FALSE | JT4: FALSE | JU4: FALSE | JV4: FALSE | JW4: FALSE | JX4: FALSE | JY4: FALSE | JZ4: FALSE | KA4: FALSE | KB4: FALSE | KC4: FALSE | KD4: FALSE | KE4: FALSE | KF4: FALSE | KG4: FALSE | KH4: FALSE | KI4: FALSE | KJ4: FALSE | KK4: FALSE | KL4: FALSE | KM4: FALSE | KN4: FALSE | KO4: FALSE | KP4: FALSE | KQ4: FALSE | KR4: FALSE | KS4: FALSE | KT4: FALSE | KU4: FALSE | KV4: FALSE | KW4: FALSE | KX4: FALSE | KY4: FALSE | KZ4: FALSE | LA4: FALSE | LB4: FALSE | LC4: FALSE | LD4: FALSE | LE4: FALSE | LF4: FALSE | LG4: FALSE | LH4: FALSE | LI4: FALSE | LJ4: FALSE | LK4: FALSE | LL4: FALSE | LM4: FALSE | LN4: FALSE | LO4: FALSE | LP4: FALSE | LQ4: FALSE | LR4: FALSE | LS4: FALSE | LT4: FALSE | LU4: FALSE | LV4: FALSE | LW4: FALSE | LX4: FALSE | LY4: FALSE | LZ4: FALSE | MA4: FALSE | MB4: FALSE | MC4: =IF('3'!Y94="","",'3'!Y94)
A5: =A4 | B5: =B4 | C5: =IF(C4=TRUE,1,IF(C4=FALSE,0,"")) -> 0 | D5: =IF(D4=TRUE,1,IF(D4=FALSE,0,"")) -> 0 | E5: =IF(E4=TRUE,1,IF(E4=FALSE,0,"")) -> 0 | F5: =IF(F4=TRUE,1,IF(F4=FALSE,0,"")) -> 0 | G5: =IF(G4=TRUE,1,IF(G4=FALSE,0,"")) -> 0 | H5: =IF(H4=TRUE,1,IF(H4=FALSE,0,"")) -> 0 | I5: =IF(I4=TRUE,1,IF(I4=FALSE,0,"")) -> 0 | J5: =IF(J4=TRUE,1,IF(J4=FALSE,0,"")) -> 0 | ... BV5: =IF(BV4=TRUE,1,IF(BV4=FALSE,0,"")) -> 0 | BW5: =BW4 | BX5: =BX4 | BY5: =IF(BY4=TRUE,1,IF(BY4=FALSE,0,"")) -> 0 | BZ5: =IF(BZ4=TRUE,1,IF(BZ4=FALSE,0,"")) -> 0 | CA5: =CA4 | CB5: =IF(CB4=TRUE,1,IF(CB4=FALSE,0,"")) -> 0 | CC5: =IF(CC4=TRUE,1,IF(CC4=FALSE,0,"")) -> 0 | CD5: =IF(CD4=TRUE,1,IF(CD4=FALSE,0,"")) -> 0 | CE5: =CE4 | CF5: =CF4 | CG5: =CG4 | CH5: =IF(CH4=TRUE,1,IF(CH4=FALSE,0,"")) -> 0 | CI5: =IF(CI4=TRUE,1,IF(CI4=FALSE,0,"")) -> 0 | CJ5: =IF(CJ4=TRUE,1,IF(CJ4=FALSE,0,"")) -> 0 | CK5: =CK4 | CL5: =CL4 | CM5: =CM4 | CN5: =IF(CN4=TRUE,1,IF(CN4=FALSE,0,"")) -> 0 | CO5: =IF(CO4=TRUE,1,IF(CO4=FALSE,0,"")) -> 0 | CP5: =IF(CP4=TRUE,1,IF(CP4=FALSE,0,"")) -> 0 | CQ5: =CQ4 | CR5: =CR4 | CS5: =CS4 | CT5: =IF(CT4=TRUE,1,IF(CT4=FALSE,0,"")) -> 0 | CU5: =IF(CU4=TRUE,1,IF(CU4=FALSE,0,"")) -> 0 | CV5: =IF(CV4=TRUE,1,IF(CV4=FALSE,0,"")) -> 0 | CW5: =CW4 | CX5: =CX4 | CY5: =CY4 | CZ5: =IF(CZ4=TRUE,1,IF(CZ4=FALSE,0,"")) -> 0 | DA5: =IF(DA4=TRUE,1,IF(DA4=FALSE,0,"")) -> 0 | DB5: =IF(DB4=TRUE,1,IF(DB4=FALSE,0,"")) -> 0 | DC5: =DC4 | DD5: =DD4 | DE5: =DE4 | DF5: =IF(DF4=TRUE,1,IF(DF4=FALSE,0,"")) -> 0 | DG5: =IF(DG4=TRUE,1,IF(DG4=FALSE,0,"")) -> 0 | DH5: =DH4 | DI5: =IF(DI4=TRUE,1,IF(DI4=FALSE,0,"")) -> 0 | DJ5: =IF(DJ4=TRUE,1,IF(DJ4=FALSE,0,"")) -> 0 | DK5: =IF(DK4=TRUE,1,IF(DK4=FALSE,0,"")) -> 0 | DL5: =DL4 | DM5: =IF(DM4=TRUE,1,IF(DM4=FALSE,0,"")) -> 0 | DN5: =IF(DN4=TRUE,1,IF(DN4=FALSE,0,"")) -> 0 | DO5: =IF(DO4=TRUE,1,IF(DO4=FALSE,0,"")) -> 0 | DP5: =IF(DP4=TRUE,1,IF(DP4=FALSE,0,"")) -> 0 | DQ5: =DQ4 | DR5: =IF(DR4=TRUE,1,IF(DR4=FALSE,0,"")) -> 0 | DS5: =IF(DS4=TRUE,1,IF(DS4=FALSE,0,"")) -> 0 | DT5: =DT4 | DU5: =DU4 | DV5: =DV4 | DW5: =DW4 | DX5: =DX4 | DY5: =DY4 | DZ5: =DZ4 | EA5: =EA4 | EB5: =IF(EB4=TRUE,1,IF(EB4=FALSE,0,"")) -> 0 | EC5: =IF(EC4=TRUE,1,IF(EC4=FALSE,0,"")) -> 0 | ED5: =ED4 | EE5: =IF(EE4=TRUE,1,IF(EE4=FALSE,0,"")) -> 0 | EF5: =IF(EF4=TRUE,1,IF(EF4=FALSE,0,"")) -> 0 | EG5: =IF(EG4=TRUE,1,IF(EG4=FALSE,0,"")) -> 0 | EH5: =EH4 | EI5: =IF(EI4=TRUE,1,IF(EI4=FALSE,0,"")) -> 0 | EJ5: =IF(EJ4=TRUE,1,IF(EJ4=FALSE,0,"")) -> 0 | EK5: =IF(EK4=TRUE,1,IF(EK4=FALSE,0,"")) -> 0 | EL5: =EL4 | EM5: =IF(EM4=TRUE,1,IF(EM4=FALSE,0,"")) -> 0 | EN5: =EN4 | EO5: =IF(EO4=TRUE,1,IF(EO4=FALSE,0,"")) -> 0 | EP5: =IF(EP4=TRUE,1,IF(EP4=FALSE,0,"")) -> 0 | EQ5: =IF(EQ4=TRUE,1,IF(EQ4=FALSE,0,"")) -> 0 | ER5: =IF(ER4=TRUE,1,IF(ER4=FALSE,0,"")) -> 0 | ES5: =IF(ES4=TRUE,1,IF(ES4=FALSE,0,"")) -> 0 | ET5: =IF(ET4=TRUE,1,IF(ET4=FALSE,0,"")) -> 0 | EU5: =IF(EU4=TRUE,1,IF(EU4=FALSE,0,"")) -> 0 | EV5: =IF(EV4=TRUE,1,IF(EV4=FALSE,0,"")) -> 0 | EW5: =EW4 | EX5: =IF(EX4=TRUE,1,IF(EX4=FALSE,0,"")) -> 0 | EY5: =IF(EY4=TRUE,1,IF(EY4=FALSE,0,"")) -> 0 | EZ5: =IF(EZ4=TRUE,1,IF(EZ4=FALSE,0,"")) -> 0 | FA5: =IF(FA4=TRUE,1,IF(FA4=FALSE,0,"")) -> 0 | FB5: =IF(FB4=TRUE,1,IF(FB4=FALSE,0,"")) -> 0 | FC5: =FC4 | FD5: =IF(FD4=TRUE,1,IF(FD4=FALSE,0,"")) -> 0 | FE5: =IF(FE4=TRUE,1,IF(FE4=FALSE,0,"")) -> 0 | FF5: =IF(FF4=TRUE,1,IF(FF4=FALSE,0,"")) -> 0 | FG5: =FG4 | FH5: =IF(FH4=TRUE,1,IF(FH4=FALSE,0,"")) -> 0 | FI5: =IF(FI4=TRUE,1,IF(FI4=FALSE,0,"")) -> 0 | FJ5: =IF(FJ4=TRUE,1,IF(FJ4=FALSE,0,"")) -> 0 | FK5: =IF(FK4=TRUE,1,IF(FK4=FALSE,0,"")) -> 0 | FL5: =IF(FL4=TRUE,1,IF(FL4=FALSE,0,"")) -> 0 | FM5: =IF(FM4=TRUE,1,IF(FM4=FALSE,0,"")) -> 0 | FN5: =IF(FN4=TRUE,1,IF(FN4=FALSE,0,"")) -> 0 | FO5: =IF(FO4=TRUE,1,IF(FO4=FALSE,0,"")) -> 0 | ... FR5: =IF(FR4=TRUE,1,IF(FR4=FALSE,0,"")) -> 0 | FS5: =FS4 | FT5: =FT4 | FU5: =FU4 | FV5: =FV4 | FW5: =FW4 | FX5: =FX4 | FY5: =FY4 | FZ5: =FZ4 | GA5: =GA4 | GB5: =IF(GB4=TRUE,1,IF(GB4=FALSE,0,"")) -> 0 | GC5: =IF(GC4=TRUE,1,IF(GC4=FALSE,0,"")) -> 0 | GD5: =GD4 | GE5: =IF(GE4=TRUE,1,IF(GE4=FALSE,0,"")) -> 0 | GF5: =IF(GF4=TRUE,1,IF(GF4=FALSE,0,"")) -> 0 | GG5: =IF(GG4=TRUE,1,IF(GG4=FALSE,0,"")) -> 0 | GH5: =IF(GH4=TRUE,1,IF(GH4=FALSE,0,"")) -> 0 | GI5: =IF(GI4=TRUE,1,IF(GI4=FALSE,0,"")) -> 0 | GJ5: =IF(GJ4=TRUE,1,IF(GJ4=FALSE,0,"")) -> 0 | GK5: =IF(GK4=TRUE,1,IF(GK4=FALSE,0,"")) -> 0 | GL5: =IF(GL4=TRUE,1,IF(GL4=FALSE,0,"")) -> 0 | ... GT5: =IF(GT4=TRUE,1,IF(GT4=FALSE,0,"")) -> 0 | GU5: =GU4 | GV5: =GV4 | GW5: =GW4 | GX5: =GX4 | GY5: =GY4 | GZ5: =GZ4 | HA5: =HA4 | HB5: =IF(HB4=TRUE,1,IF(HB4=FALSE,0,"")) -> 0 | HC5: =IF(HC4=TRUE,1,IF(HC4=FALSE,0,"")) -> 0 | HD5: =IF(HD4=TRUE,1,IF(HD4=FALSE,0,"")) -> 0 | HE5: =IF(HE4=TRUE,1,IF(HE4=FALSE,0,"")) -> 0 | HF5: =IF(HF4=TRUE,1,IF(HF4=FALSE,0,"")) -> 0 | HG5: =IF(HG4=TRUE,1,IF(HG4=FALSE,0,"")) -> 0 | HH5: =HH4 | HI5: =IF(HI4=TRUE,1,IF(HI4=FALSE,0,"")) -> 0 | HJ5: =IF(HJ4=TRUE,1,IF(HJ4=FALSE,0,"")) -> 0 | HK5: =IF(HK4=TRUE,1,IF(HK4=FALSE,0,"")) -> 0 | HL5: =IF(HL4=TRUE,1,IF(HL4=FALSE,0,"")) -> 0 | HM5: =HM4 | HN5: =IF(HN4=TRUE,1,IF(HN4=FALSE,0,"")) -> 0 | HO5: =IF(HO4=TRUE,1,IF(HO4=FALSE,0,"")) -> 0 | HP5: =IF(HP4=TRUE,1,IF(HP4=FALSE,0,"")) -> 0 | HQ5: =HQ4 | HR5: =IF(HR4=TRUE,1,IF(HR4=FALSE,0,"")) -> 0 | HS5: =IF(HS4=TRUE,1,IF(HS4=FALSE,0,"")) -> 0 | HT5: =IF(HT4=TRUE,1,IF(HT4=FALSE,0,"")) -> 0 | HU5: =IF(HU4=TRUE,1,IF(HU4=FALSE,0,"")) -> 0 | HV5: =IF(HV4=TRUE,1,IF(HV4=FALSE,0,"")) -> 0 | HW5: =IF(HW4=TRUE,1,IF(HW4=FALSE,0,"")) -> 0 | HX5: =HX4 | HY5: =HY4 | HZ5: =HZ4 | IA5: =IA4 | IB5: =IB4 | IC5: =IC4 | ID5: =ID4 | IE5: =IE4 | ... IH5: =IH4 | II5: =IF(II4=TRUE,1,IF(II4=FALSE,0,"")) -> 0 | IJ5: =IF(IJ4=TRUE,1,IF(IJ4=FALSE,0,"")) -> 0 | IK5: =IF(IK4=TRUE,1,IF(IK4=FALSE,0,"")) -> 0 | IL5: =IF(IL4=TRUE,1,IF(IL4=FALSE,0,"")) -> 0 | IM5: =IF(IM4=TRUE,1,IF(IM4=FALSE,0,"")) -> 0 | IN5: =IF(IN4=TRUE,1,IF(IN4=FALSE,0,"")) -> 0 | IO5: =IO4 | IP5: =IF(IP4=TRUE,1,IF(IP4=FALSE,0,"")) -> 0 | IQ5: =IF(IQ4=TRUE,1,IF(IQ4=FALSE,0,"")) -> 0 | IR5: =IF(IR4=TRUE,1,IF(IR4=FALSE,0,"")) -> 0 | IS5: =IF(IS4=TRUE,1,IF(IS4=FALSE,0,"")) -> 0 | IT5: =IT4 | IU5: =IF(IU4=TRUE,1,IF(IU4=FALSE,0,"")) -> 0 | IV5: =IF(IV4=TRUE,1,IF(IV4=FALSE,0,"")) -> 0 | IW5: =IF(IW4=TRUE,1,IF(IW4=FALSE,0,"")) -> 0 | IX5: =IF(IX4=TRUE,1,IF(IX4=FALSE,0,"")) -> 0 | IY5: =IF(IY4=TRUE,1,IF(IY4=FALSE,0,"")) -> 0 | IZ5: =IZ4 | JA5: =JA4 | JB5: =JB4 | JC5: =JC4 | JD5: =IF(JD4=TRUE,1,IF(JD4=FALSE,0,"")) -> 0 | JE5: =IF(JE4=TRUE,1,IF(JE4=FALSE,0,"")) -> 0 | JF5: =IF(JF4=TRUE,1,IF(JF4=FALSE,0,"")) -> 0 | JG5: =IF(JG4=TRUE,1,IF(JG4=FALSE,0,"")) -> 0 | JH5: =IF(JH4=TRUE,1,IF(JH4=FALSE,0,"")) -> 0 | JI5: =IF(JI4=TRUE,1,IF(JI4=FALSE,0,"")) -> 0 | JJ5: =IF(JJ4=TRUE,1,IF(JJ4=FALSE,0,"")) -> 0 | JK5: =IF(JK4=TRUE,1,IF(JK4=FALSE,0,"")) -> 0 | ... MB5: =IF(MB4=TRUE,1,IF(MB4=FALSE,0,"")) -> 0 | MC5: =MC4
